BEGIN:VCALENDAR
VERSION:2.0
PRODID:-//wp-events-plugin.com//7.2.3.1//EN
TZID:America/Chicago
X-WR-TIMEZONE:America/Chicago
BEGIN:VEVENT
UID:2097@uujoliet.org
DTSTART;TZID=America/Chicago:20260502T130000
DTEND;TZID=America/Chicago:20260502T150000
DTSTAMP:20251206T174552Z
URL:https://uujoliet.org/events/writers-group-2026-02-07-2026-03-07-2026-0
 4-04-2026-05-02/
SUMMARY:Writers Group
DESCRIPTION:Come write with us.\n\nNo experience necessary. Any level of wr
 iting experience - from newbies to published writers are welcome. You can 
 express your ideas in any form of writing.  Each month\, a prompt will be
  sent out by email prior to the meeting for all members. You can use the p
 rompt to inspire you - or you can write anything you want to share with th
 e group.  Each member can decide what kind of feedback (if any) they want
  from the group.\n\n&nbsp\;
CATEGORIES:Committee Meetings
LOCATION:UUCJ\, 3401 W. Jefferson St.\, Joliet\, IL\, 60431\, United States
X-APPLE-STRUCTURED-LOCATION;VALUE=URI;X-ADDRESS=3401 W. Jefferson St.\, Jol
 iet\, IL\, 60431\, United States;X-APPLE-RADIUS=100;X-TITLE=UUCJ:geo:0,0
END:VEVENT
BEGIN:VTIMEZONE
TZID:America/Chicago
X-LIC-LOCATION:America/Chicago
BEGIN:DAYLIGHT
DTSTART:20260308T030000
TZOFFSETFROM:-0600
TZOFFSETTO:-0500
TZNAME:CDT
END:DAYLIGHT
END:VTIMEZONE
END:VCALENDAR