BEGIN:VCALENDAR
VERSION:2.0
PRODID:-//wp-events-plugin.com//7.2.3.1//EN
TZID:America/Chicago
X-WR-TIMEZONE:America/Chicago
BEGIN:VEVENT
UID:2451@uujoliet.org
DTSTART;TZID=America/Chicago:20260424T120000
DTEND;TZID=America/Chicago:20260424T130000
DTSTAMP:20260424T004445Z
URL:https://uujoliet.org/events/uua-consult/
SUMMARY:UUA Consult
DESCRIPTION:Consultation with UUA
LOCATION:UUCJ Dickens Room\, 3401 W. Jefferson St.\, Joliet\, IL\, United S
 tates
X-APPLE-STRUCTURED-LOCATION;VALUE=URI;X-ADDRESS=3401 W. Jefferson St.\, Jol
 iet\, IL\, United States;X-APPLE-RADIUS=100;X-TITLE=UUCJ Dickens Room:geo:
 0,0
END:VEVENT
BEGIN:VTIMEZONE
TZID:America/Chicago
X-LIC-LOCATION:America/Chicago
BEGIN:DAYLIGHT
DTSTART:20260308T030000
TZOFFSETFROM:-0600
TZOFFSETTO:-0500
TZNAME:CDT
END:DAYLIGHT
END:VTIMEZONE
END:VCALENDAR