BEGIN:VCALENDAR
VERSION:2.0
PRODID:-//wp-events-plugin.com//7.2.3.1//EN
TZID:America/Chicago
X-WR-TIMEZONE:America/Chicago
BEGIN:VEVENT
UID:2075@uujoliet.org
DTSTART;TZID=America/Chicago:20260629T180000
DTEND;TZID=America/Chicago:20260629T200000
DTSTAMP:20251021T150740Z
URL:https://uujoliet.org/events/scouts-2-2025-06-30-2025-07-07-2025-07-14-
 2025-07-21-2025-07-28-2025-08-04-2025-08-11-2025-08-18-2025-08-25-2025-09-
 01-2025-09-08-2025-09-15-2025-09-22-2025-09-29-2025-10-06-2025-10-13-2-22-
 2026-06-29/
SUMMARY:Scouts
DESCRIPTION:
LOCATION:UUCJ\, 3401 W. Jefferson St.\, Joliet\, IL\, 60431\, United States
X-APPLE-STRUCTURED-LOCATION;VALUE=URI;X-ADDRESS=3401 W. Jefferson St.\, Jol
 iet\, IL\, 60431\, United States;X-APPLE-RADIUS=100;X-TITLE=UUCJ:geo:0,0
END:VEVENT
BEGIN:VTIMEZONE
TZID:America/Chicago
X-LIC-LOCATION:America/Chicago
BEGIN:DAYLIGHT
DTSTART:20260308T030000
TZOFFSETFROM:-0600
TZOFFSETTO:-0500
TZNAME:CDT
END:DAYLIGHT
END:VTIMEZONE
END:VCALENDAR