BEGIN:VCALENDAR
VERSION:2.0
PRODID:-//wp-events-plugin.com//7.2.3.1//EN
TZID:America/Chicago
X-WR-TIMEZONE:America/Chicago
BEGIN:VEVENT
UID:2128@uujoliet.org
DTSTART;TZID=America/Chicago:20260509T100000
DTEND;TZID=America/Chicago:20260509T113000
DTSTAMP:20260106T201531Z
URL:https://uujoliet.org/events/safety-security-committee-meeting-2026-01-
 10-2026-02-14-2026-03-14-2026-04-11-2026-05-09/
SUMMARY:Safety & Security Committee Meeting
DESCRIPTION:
CATEGORIES:Committee Meetings
LOCATION:https://bit.ly/UUCJ-SnSMeeting
END:VEVENT
BEGIN:VTIMEZONE
TZID:America/Chicago
X-LIC-LOCATION:America/Chicago
BEGIN:DAYLIGHT
DTSTART:20260308T030000
TZOFFSETFROM:-0600
TZOFFSETTO:-0500
TZNAME:CDT
END:DAYLIGHT
END:VTIMEZONE
END:VCALENDAR