BEGIN:VCALENDAR
VERSION:2.0
PRODID:-//wp-events-plugin.com//7.2.3.1//EN
TZID:America/Chicago
X-WR-TIMEZONE:America/Chicago
BEGIN:VEVENT
UID:1957@uujoliet.org
DTSTART;TZID=America/Chicago:20260606T110000
DTEND;TZID=America/Chicago:20260606T130000
DTSTAMP:20250731T195513Z
URL:https://uujoliet.org/events/re-committee-meeting-2026-06-06/
SUMMARY:RE Committee Meeting
DESCRIPTION:
CATEGORIES:Committee Meetings
LOCATION:https://bit.ly/UUCJ-RECommitteeMeeting
END:VEVENT
BEGIN:VTIMEZONE
TZID:America/Chicago
X-LIC-LOCATION:America/Chicago
BEGIN:DAYLIGHT
DTSTART:20260308T030000
TZOFFSETFROM:-0600
TZOFFSETTO:-0500
TZNAME:CDT
END:DAYLIGHT
END:VTIMEZONE
END:VCALENDAR