BEGIN:VCALENDAR
VERSION:2.0
PRODID:-//wp-events-plugin.com//7.2.3.1//EN
TZID:America/Chicago
X-WR-TIMEZONE:America/Chicago
BEGIN:VEVENT
UID:1737@uujoliet.org
DTSTART;TZID=America/Chicago:20260521T190000
DTEND;TZID=America/Chicago:20260521T210000
DTSTAMP:20250623T163814Z
URL:https://uujoliet.org/events/monthly-board-meeting-2025-05-15-2025-07-1
 7-2025-08-21-2025-09-18-2025-10-16-2025-11-20-2025-12-18-2026-01-15-2026-0
 2-19-2026-03-19-2026-04-16-2026-05-21/
SUMMARY:Monthly Board Meeting
DESCRIPTION:The Board of Trustee Meeting is open to all church members.  T
 he meeting is held hybrid style\, so if you are not comfortable or able to
  come to the church\, you may join us online.\n\n&nbsp\;\n\nPhone number t
 o join the meeting via phone is 309-248-0704\, code 183 842 799#
CATEGORIES:Board Meeting
LOCATION:https://bit.ly/UUCJ-MonthlyBoardMeeting
END:VEVENT
BEGIN:VTIMEZONE
TZID:America/Chicago
X-LIC-LOCATION:America/Chicago
BEGIN:DAYLIGHT
DTSTART:20260308T030000
TZOFFSETFROM:-0600
TZOFFSETTO:-0500
TZNAME:CDT
END:DAYLIGHT
END:VTIMEZONE
END:VCALENDAR