BEGIN:VCALENDAR
VERSION:2.0
PRODID:-//wp-events-plugin.com//7.2.3.1//EN
TZID:America/Chicago
X-WR-TIMEZONE:America/Chicago
BEGIN:VEVENT
UID:1902@uujoliet.org
DTSTART;TZID=America/Chicago:20260428T130000
DTEND;TZID=America/Chicago:20260428T150000
DTSTAMP:20250710T140555Z
URL:https://uujoliet.org/events/lay-ministers-monthly-meeting-2025-07-22-2
 025-08-26-2025-09-23-2025-10-28-2025-11-25-2025-12-23-2026-01-27-2026-02-2
 4-2026-03-24-2026-04-28/
SUMMARY:Lay Ministers Monthly Meeting
DESCRIPTION:
CATEGORIES:Committee Meetings
LOCATION:UUCJ Dickens Room\, 3401 W. Jefferson St.\, Joliet\, IL\, United S
 tates
X-APPLE-STRUCTURED-LOCATION;VALUE=URI;X-ADDRESS=3401 W. Jefferson St.\, Jol
 iet\, IL\, United States;X-APPLE-RADIUS=100;X-TITLE=UUCJ Dickens Room:geo:
 0,0
END:VEVENT
BEGIN:VTIMEZONE
TZID:America/Chicago
X-LIC-LOCATION:America/Chicago
BEGIN:DAYLIGHT
DTSTART:20260308T030000
TZOFFSETFROM:-0600
TZOFFSETTO:-0500
TZNAME:CDT
END:DAYLIGHT
END:VTIMEZONE
END:VCALENDAR