BEGIN:VCALENDAR
VERSION:2.0
PRODID:-//wp-events-plugin.com//7.2.3.1//EN
TZID:America/Chicago
X-WR-TIMEZONE:America/Chicago
BEGIN:VEVENT
UID:2085@uujoliet.org
DTSTART;TZID=America/Chicago:20260503T121500
DTEND;TZID=America/Chicago:20260503T140000
DTSTAMP:20251021T150845Z
URL:https://uujoliet.org/events/hospitality-monthly-meeting-2025-08-03-202
 5-09-07-2025-10-05-2025-11-02-2025-12-07-2026-01-04-2026-02-01-2026-03-01-
 2026-04-05-2026-05-03/
SUMMARY:Hospitality Monthly Meeting
DESCRIPTION:
CATEGORIES:Committee Meetings
LOCATION:UUCJ Murray Room\, 3401 W. Jefferson St.\, Joliet\, IL\, 60431\, U
 nited States
X-APPLE-STRUCTURED-LOCATION;VALUE=URI;X-ADDRESS=3401 W. Jefferson St.\, Jol
 iet\, IL\, 60431\, United States;X-APPLE-RADIUS=100;X-TITLE=UUCJ Murray Ro
 om:geo:0,0
END:VEVENT
BEGIN:VTIMEZONE
TZID:America/Chicago
X-LIC-LOCATION:America/Chicago
BEGIN:DAYLIGHT
DTSTART:20260308T030000
TZOFFSETFROM:-0600
TZOFFSETTO:-0500
TZNAME:CDT
END:DAYLIGHT
END:VTIMEZONE
END:VCALENDAR