BEGIN:VCALENDAR
VERSION:2.0
PRODID:-//wp-events-plugin.com//7.2.3.1//EN
TZID:America/Chicago
X-WR-TIMEZONE:America/Chicago
BEGIN:VEVENT
UID:1961@uujoliet.org
DTSTART;TZID=America/Chicago:20260531T183000
DTEND;TZID=America/Chicago:20260531T230000
DTSTAMP:20250717T235158Z
URL:https://uujoliet.org/events/full-moon-ritual-29/
SUMMARY:Full Moon Ritual
DESCRIPTION:Come join Treibh Na Tintean for our Full Moon Ritual!\n\nGather
  at 6:30\, ritual starts at 7:00.\n\nFeel free to bring an item to charge 
 on our shared altar.\n\nSnacks and drinks are welcome for gathering after 
 the ritual\; please take any trash out with you.\n\nAll are welcome!
LOCATION:UUCJ\, 3401 W. Jefferson St.\, Joliet\, IL\, 60431\, United States
X-APPLE-STRUCTURED-LOCATION;VALUE=URI;X-ADDRESS=3401 W. Jefferson St.\, Jol
 iet\, IL\, 60431\, United States;X-APPLE-RADIUS=100;X-TITLE=UUCJ:geo:0,0
END:VEVENT
BEGIN:VTIMEZONE
TZID:America/Chicago
X-LIC-LOCATION:America/Chicago
BEGIN:DAYLIGHT
DTSTART:20260308T030000
TZOFFSETFROM:-0600
TZOFFSETTO:-0500
TZNAME:CDT
END:DAYLIGHT
END:VTIMEZONE
END:VCALENDAR