BEGIN:VCALENDAR
VERSION:2.0
PRODID:-//wp-events-plugin.com//7.2.3.1//EN
TZID:America/Chicago
X-WR-TIMEZONE:America/Chicago
BEGIN:VEVENT
UID:2450@uujoliet.org
DTSTART;TZID=America/Chicago:20260425T100000
DTEND;TZID=America/Chicago:20260425T120000
DTSTAMP:20260424T004119Z
URL:https://uujoliet.org/events/finance-canvass/
SUMMARY:Finance / Canvass
DESCRIPTION:Planning meeting for Finance / Canvass Committee prior to budge
 t presentation.
LOCATION:https://teams.microsoft.com/meet/251744290684717?p=G9NkMisZ0CXeEQ7
 sDM
END:VEVENT
BEGIN:VTIMEZONE
TZID:America/Chicago
X-LIC-LOCATION:America/Chicago
BEGIN:DAYLIGHT
DTSTART:20260308T030000
TZOFFSETFROM:-0600
TZOFFSETTO:-0500
TZNAME:CDT
END:DAYLIGHT
END:VTIMEZONE
END:VCALENDAR