BEGIN:VCALENDAR
VERSION:2.0
PRODID:-//wp-events-plugin.com//7.2.3.1//EN
TZID:America/Chicago
X-WR-TIMEZONE:America/Chicago
BEGIN:VEVENT
UID:1750@uujoliet.org
DTSTART;TZID=America/Chicago:20260513T183000
DTEND;TZID=America/Chicago:20260513T193000
DTSTAMP:20250623T163911Z
URL:https://uujoliet.org/events/communications-technology-committee-2025-0
 3-12-2025-07-09-2025-08-13-2025-09-10-2025-10-08-2025-11-12-2025-12-10-202
 6-01-14-2026-02-11-2026-03-11-2026-04-08-2026-05-13/
SUMMARY:Communications & Technology Committee
DESCRIPTION:This Group meets once a month hybrid style (in person and onlin
 e).\n\nIf you are interested in working with the group that does such thin
 gs as updating our technology please join us.
CATEGORIES:Committee Meetings
LOCATION:https://teams.microsoft.com/l/meetup-join/19%3a8441be1c250a4837bee
 6ff486040da64%40thread.skype/1602728840146?context=%7b%22Tid%22%3a%2296ce3
 943-a131-4e5f-9e3f-88c4aaab4b72%22%2c%22Oid%22%3a%22b08bc80a-2738-4a43-a67
 6-f8a3334e3b8a%22%7d
END:VEVENT
BEGIN:VTIMEZONE
TZID:America/Chicago
X-LIC-LOCATION:America/Chicago
BEGIN:DAYLIGHT
DTSTART:20260308T030000
TZOFFSETFROM:-0600
TZOFFSETTO:-0500
TZNAME:CDT
END:DAYLIGHT
END:VTIMEZONE
END:VCALENDAR