BEGIN:VCALENDAR
VERSION:2.0
PRODID:-//wp-events-plugin.com//7.2.3.1//EN
TZID:America/Chicago
X-WR-TIMEZONE:America/Chicago
BEGIN:VEVENT
UID:1887@uujoliet.org
DTSTART;TZID=America/Chicago:20260514T120000
DTEND;TZID=America/Chicago:20260514T160000
DTSTAMP:20250702T182101Z
URL:https://uujoliet.org/events/clara-barton-guild-2025-07-10-2025-08-14-2
 025-09-11-2025-10-09-2025-11-13-2025-12-11-2026-01-08-2026-02-12-2026-03-1
 2-2026-04-09-2026-05-14/
SUMMARY:Clara Barton Guild
DESCRIPTION:All women are invited to participate in the Clara Barton Guild\
 , a service based group.\n\nMeeting time is 1:00 pm - 3:00 pm. However\, c
 ome earlier and share lunch with us.
LOCATION:UUCJ Dickens Room\, 3401 W. Jefferson St.\, Joliet\, IL\, United S
 tates
X-APPLE-STRUCTURED-LOCATION;VALUE=URI;X-ADDRESS=3401 W. Jefferson St.\, Jol
 iet\, IL\, United States;X-APPLE-RADIUS=100;X-TITLE=UUCJ Dickens Room:geo:
 0,0
END:VEVENT
BEGIN:VTIMEZONE
TZID:America/Chicago
X-LIC-LOCATION:America/Chicago
BEGIN:DAYLIGHT
DTSTART:20260308T030000
TZOFFSETFROM:-0600
TZOFFSETTO:-0500
TZNAME:CDT
END:DAYLIGHT
END:VTIMEZONE
END:VCALENDAR