BEGIN:VCALENDAR
VERSION:2.0
PRODID:-//wp-events-plugin.com//7.2.3.1//EN
TZID:America/Chicago
X-WR-TIMEZONE:America/Chicago
BEGIN:VEVENT
UID:2133@uujoliet.org
DTSTART;TZID=America/Chicago:20260614T120000
DTEND;TZID=America/Chicago:20260614T153000
DTSTAMP:20260420T210024Z
URL:https://uujoliet.org/events/church-picnic-3/
SUMMARY:Church Picnic
DESCRIPTION:\n\n&nbsp\;\n\nSave the date!!\n\nJoin us for our annual church
  picnic as we close out the year and prepare for our summer adventures awa
 y.\n\nMore information as we get closer to the actual date.
LOCATION:UUCJ\, 3401 W. Jefferson St.\, Joliet\, IL\, 60431\, United States
X-APPLE-STRUCTURED-LOCATION;VALUE=URI;X-ADDRESS=3401 W. Jefferson St.\, Jol
 iet\, IL\, 60431\, United States;X-APPLE-RADIUS=100;X-TITLE=UUCJ:geo:0,0
END:VEVENT
BEGIN:VTIMEZONE
TZID:America/Chicago
X-LIC-LOCATION:America/Chicago
BEGIN:DAYLIGHT
DTSTART:20260308T030000
TZOFFSETFROM:-0600
TZOFFSETTO:-0500
TZNAME:CDT
END:DAYLIGHT
END:VTIMEZONE
END:VCALENDAR