BEGIN:VCALENDAR
VERSION:2.0
PRODID:-//wp-events-plugin.com//7.2.3.1//EN
TZID:America/Chicago
X-WR-TIMEZONE:America/Chicago
BEGIN:VEVENT
UID:1977@uujoliet.org
DTSTART;TZID=America/Chicago:20260513T193000
DTEND;TZID=America/Chicago:20260513T210000
DTSTAMP:20250806T172440Z
URL:https://uujoliet.org/events/building-grounds-monthly-meeting-2025-07-0
 9-2025-08-13-2025-09-10-2025-10-08-2025-11-12-2025-12-10-2026-01-14-2026-0
 2-11-2026-03-11-2026-04-08-2026-05-13/
SUMMARY:Building & Grounds Monthly Meeting
DESCRIPTION:Join us in person or virtually.\n\nQuestions\, comments\, and s
 uggestions welcome.
CATEGORIES:Committee Meetings
LOCATION:https://bit.ly/UUCJ-BuildingGroundsMeeting
END:VEVENT
BEGIN:VTIMEZONE
TZID:America/Chicago
X-LIC-LOCATION:America/Chicago
BEGIN:DAYLIGHT
DTSTART:20260308T030000
TZOFFSETFROM:-0600
TZOFFSETTO:-0500
TZNAME:CDT
END:DAYLIGHT
END:VTIMEZONE
END:VCALENDAR