BEGIN:VCALENDAR
VERSION:2.0
PRODID:-//wp-events-plugin.com//7.2.3.1//EN
TZID:America/Chicago
X-WR-TIMEZONE:America/Chicago
BEGIN:VEVENT
UID:1698@uujoliet.org
DTSTART;TZID=America/Chicago:20260621T114500
DTEND;TZID=America/Chicago:20260621T140000
DTSTAMP:20251021T150649Z
URL:https://uujoliet.org/events/build-your-own-theology-class-2026-06-21/
SUMMARY:Love at the Center
DESCRIPTION:
LOCATION:UUCJ\, 3401 W. Jefferson St.\, Joliet\, IL\, 60431\, United States
X-APPLE-STRUCTURED-LOCATION;VALUE=URI;X-ADDRESS=3401 W. Jefferson St.\, Jol
 iet\, IL\, 60431\, United States;X-APPLE-RADIUS=100;X-TITLE=UUCJ:geo:0,0
END:VEVENT
BEGIN:VTIMEZONE
TZID:America/Chicago
X-LIC-LOCATION:America/Chicago
BEGIN:DAYLIGHT
DTSTART:20260308T030000
TZOFFSETFROM:-0600
TZOFFSETTO:-0500
TZNAME:CDT
END:DAYLIGHT
END:VTIMEZONE
END:VCALENDAR