BEGIN:VCALENDAR
VERSION:2.0
PRODID:-//wp-events-plugin.com//7.2.3.1//EN
TZID:America/Chicago
X-WR-TIMEZONE:America/Chicago
BEGIN:VEVENT
UID:1965@uujoliet.org
DTSTART;TZID=America/Chicago:20260502T183000
DTEND;TZID=America/Chicago:20260502T233000
DTSTAMP:20250724T141927Z
URL:https://uujoliet.org/events/beltane-and-full-moon-ritual/
SUMMARY:Beltane and Full Moon Ritual
DESCRIPTION:Come join Treibh Na Tintean as we celebrate the wheel of the ye
 ar! It's time for Beltane!\n\nGather at 6:30\, ritual starts at 7:00.  Th
 is ritual will include our Full Moon celebration as well.\n\nPlease see ou
 r Facebook event page https://www.facebook.com/joliettnt for more informat
 ion.\n\nAll are welcome
LOCATION:UUCJ\, 3401 W. Jefferson St.\, Joliet\, IL\, 60431\, United States
X-APPLE-STRUCTURED-LOCATION;VALUE=URI;X-ADDRESS=3401 W. Jefferson St.\, Jol
 iet\, IL\, 60431\, United States;X-APPLE-RADIUS=100;X-TITLE=UUCJ:geo:0,0
END:VEVENT
BEGIN:VTIMEZONE
TZID:America/Chicago
X-LIC-LOCATION:America/Chicago
BEGIN:DAYLIGHT
DTSTART:20260308T030000
TZOFFSETFROM:-0600
TZOFFSETTO:-0500
TZNAME:CDT
END:DAYLIGHT
END:VTIMEZONE
END:VCALENDAR