BEGIN:VCALENDAR
VERSION:2.0
PRODID:-//wp-events-plugin.com//7.2.3.1//EN
TZID:America/Chicago
X-WR-TIMEZONE:America/Chicago
BEGIN:VEVENT
UID:1806@uujoliet.org
DTSTART;TZID=America/Chicago:20260426T090000
DTEND;TZID=America/Chicago:20260426T103000
DTSTAMP:20250623T172822Z
URL:https://uujoliet.org/events/adult-book-discussion-group-2025-07-06-202
 5-07-13-2025-07-20-2025-07-27-2025-08-03-2025-08-10-2025-08-17-2025-08-24-
 2025-08-31-2025-09-07-2025-09-14-2025-09-21-2025-09-28-2025-10-05-2025-19-
 2026-04-26/
SUMMARY:Adult Book Discussion Group
DESCRIPTION:This group meets hybrid style. Join us in person or online to p
 articipate.  We meet in the Dicken's room at the church.\n\n&nbsp\;\n\nTo
  join us by telephone dial 309-248-0704  and use code 702 997 317#
LOCATION:https://bit.ly/UUCJAdultDiscussion
END:VEVENT
BEGIN:VTIMEZONE
TZID:America/Chicago
X-LIC-LOCATION:America/Chicago
BEGIN:DAYLIGHT
DTSTART:20260308T030000
TZOFFSETFROM:-0600
TZOFFSETTO:-0500
TZNAME:CDT
END:DAYLIGHT
END:VTIMEZONE
END:VCALENDAR